BEGIN:VCALENDAR
VERSION:2.0
PRODID:-//New College of Florida - ECPv6.15.20//NONSGML v1.0//EN
CALSCALE:GREGORIAN
METHOD:PUBLISH
X-WR-CALNAME:New College of Florida
X-ORIGINAL-URL:https://www.ncf.edu
X-WR-CALDESC:Events for New College of Florida
REFRESH-INTERVAL;VALUE=DURATION:PT1H
X-Robots-Tag:noindex
X-PUBLISHED-TTL:PT1H
BEGIN:VTIMEZONE
TZID:America/New_York
BEGIN:DAYLIGHT
TZOFFSETFROM:-0500
TZOFFSETTO:-0400
TZNAME:EDT
DTSTART:20240310T070000
END:DAYLIGHT
BEGIN:STANDARD
TZOFFSETFROM:-0400
TZOFFSETTO:-0500
TZNAME:EST
DTSTART:20241103T060000
END:STANDARD
BEGIN:DAYLIGHT
TZOFFSETFROM:-0500
TZOFFSETTO:-0400
TZNAME:EDT
DTSTART:20250309T070000
END:DAYLIGHT
BEGIN:STANDARD
TZOFFSETFROM:-0400
TZOFFSETTO:-0500
TZNAME:EST
DTSTART:20251102T060000
END:STANDARD
BEGIN:DAYLIGHT
TZOFFSETFROM:-0500
TZOFFSETTO:-0400
TZNAME:EDT
DTSTART:20260308T070000
END:DAYLIGHT
BEGIN:STANDARD
TZOFFSETFROM:-0400
TZOFFSETTO:-0500
TZNAME:EST
DTSTART:20261101T060000
END:STANDARD
END:VTIMEZONE
BEGIN:VEVENT
DTSTART;TZID=America/New_York:20250528T113000
DTEND;TZID=America/New_York:20250528T123000
DTSTAMP:20260421T045217
CREATED:20250520T184232Z
LAST-MODIFIED:20250520T184232Z
UID:33462-1748431800-1748435400@www.ncf.edu
SUMMARY:Special Board of Trustees Meeting
DESCRIPTION:Special Board of Trustees meeting on Wednesday\, May 28\, 2025 from 11:30 – 12:30  p.m. EST. Find the notes on the BOT page here.\n\nFor your convenience the virtual meeting information is below.\nhttps://ncf.zoom.us/j/91952359046?pwd=3Jg86Bc3dxf6fMSIanfBxatdrtU75Q.1\nPasscode:517590
URL:https://www.ncf.edu/event/special-board-of-trustees-meeting-4/
CATEGORIES:Public Notices
END:VEVENT
END:VCALENDAR