BEGIN:VCALENDAR
VERSION:2.0
PRODID:-//New College of Florida - ECPv6.15.20//NONSGML v1.0//EN
CALSCALE:GREGORIAN
METHOD:PUBLISH
X-WR-CALNAME:New College of Florida
X-ORIGINAL-URL:https://www.ncf.edu
X-WR-CALDESC:Events for New College of Florida
REFRESH-INTERVAL;VALUE=DURATION:PT1H
X-Robots-Tag:noindex
X-PUBLISHED-TTL:PT1H
BEGIN:VTIMEZONE
TZID:America/New_York
BEGIN:DAYLIGHT
TZOFFSETFROM:-0500
TZOFFSETTO:-0400
TZNAME:EDT
DTSTART:20220313T070000
END:DAYLIGHT
BEGIN:STANDARD
TZOFFSETFROM:-0400
TZOFFSETTO:-0500
TZNAME:EST
DTSTART:20221106T060000
END:STANDARD
BEGIN:DAYLIGHT
TZOFFSETFROM:-0500
TZOFFSETTO:-0400
TZNAME:EDT
DTSTART:20230312T070000
END:DAYLIGHT
BEGIN:STANDARD
TZOFFSETFROM:-0400
TZOFFSETTO:-0500
TZNAME:EST
DTSTART:20231105T060000
END:STANDARD
BEGIN:DAYLIGHT
TZOFFSETFROM:-0500
TZOFFSETTO:-0400
TZNAME:EDT
DTSTART:20240310T070000
END:DAYLIGHT
BEGIN:STANDARD
TZOFFSETFROM:-0400
TZOFFSETTO:-0500
TZNAME:EST
DTSTART:20241103T060000
END:STANDARD
END:VTIMEZONE
BEGIN:VEVENT
DTSTART;TZID=America/New_York:20230517T140000
DTEND;TZID=America/New_York:20230517T150000
DTSTAMP:20260420T042005
CREATED:20230522T233051Z
LAST-MODIFIED:20240401T203250Z
UID:17621-1684332000-1684335600@www.ncf.edu
SUMMARY:Presidential Search Committee
DESCRIPTION:New College of Florida announces a public meeting to which all persons are invited.  \nIn accordance with the Sunshine Law\, the public is invited to listen and observe the following meeting.  \nWhen: Monday\, May 17\, 2023\, 2:00 – 3:00 p.m. EST  \nWhere: https://ncf.zoom.us/j/93731040310?pwd=b21yLzZFcUc1WERrSmZVU0xNSDQrQT09 \nPasscode: 628729 \nFor Meeting documents and other information\, visit: https://newcollegedev.wpengine.com/presidentialsearch/. Pursuant to the provisions of the Americans With Disabilities Act\, any person requiring special accommodations to participate in this meeting is asked to advise the college in advance of the meeting by contacting Human Resources at 941-487-4583.
URL:https://www.ncf.edu/event/presidential-search-committee/
CATEGORIES:Public Notices
END:VEVENT
END:VCALENDAR