BEGIN:VCALENDAR
VERSION:2.0
PRODID:-//New College of Florida - ECPv6.15.20//NONSGML v1.0//EN
CALSCALE:GREGORIAN
METHOD:PUBLISH
X-WR-CALNAME:New College of Florida
X-ORIGINAL-URL:https://www.ncf.edu
X-WR-CALDESC:Events for New College of Florida
REFRESH-INTERVAL;VALUE=DURATION:PT1H
X-Robots-Tag:noindex
X-PUBLISHED-TTL:PT1H
BEGIN:VTIMEZONE
TZID:America/New_York
BEGIN:DAYLIGHT
TZOFFSETFROM:-0500
TZOFFSETTO:-0400
TZNAME:EDT
DTSTART:20210314T070000
END:DAYLIGHT
BEGIN:STANDARD
TZOFFSETFROM:-0400
TZOFFSETTO:-0500
TZNAME:EST
DTSTART:20211107T060000
END:STANDARD
BEGIN:DAYLIGHT
TZOFFSETFROM:-0500
TZOFFSETTO:-0400
TZNAME:EDT
DTSTART:20220313T070000
END:DAYLIGHT
BEGIN:STANDARD
TZOFFSETFROM:-0400
TZOFFSETTO:-0500
TZNAME:EST
DTSTART:20221106T060000
END:STANDARD
BEGIN:DAYLIGHT
TZOFFSETFROM:-0500
TZOFFSETTO:-0400
TZNAME:EDT
DTSTART:20230312T070000
END:DAYLIGHT
BEGIN:STANDARD
TZOFFSETFROM:-0400
TZOFFSETTO:-0500
TZNAME:EST
DTSTART:20231105T060000
END:STANDARD
END:VTIMEZONE
BEGIN:VEVENT
DTSTART;TZID=America/New_York:20220406T200000
DTEND;TZID=America/New_York:20220406T210000
DTSTAMP:20260422T050520
CREATED:20211231T003558Z
LAST-MODIFIED:20240401T202445Z
UID:7958-1649275200-1649278800@www.ncf.edu
SUMMARY:NMNC Newfest: yMusic
DESCRIPTION:Admission: $15 (Free for NCF students\, faculty\, & staff) More info available here \nPre-Concert talk at 7:30 p.m. \n \nExperiencing the sound\, virtuosity\, and coordination of the chamber group yMusic is something we are eager to share with our audience. yMusic has commissioned some of the most exciting composers working today\, including Andrew Norman\, Missy Mazzoli\, and Gabriella Smith\, and has also composed music together as a group. Their sound has attracted collaborations from artists such a Paul Simon\, Bill T. Jones\, and Sufjan Stevens\, and this program will feature works from their extensive repertoire of specially designed and finely wrought chamber pieces. \n  \nRelated Events:\nConversation with yMusic
URL:https://www.ncf.edu/event/nmnc-newfest-ymusic/
LOCATION:PepsiCo Arcade\, 5313 Bay Shore Rd\, Sarasota\, Florida\, 34243\, United States
CATEGORIES:Mellon Community Engagement,New Music New College,Virtual Option
ATTACH;FMTTYPE=image/jpeg:https://www.ncf.edu/wp-content/uploads/2024/04/yMusic-by-Graham-Tolbert-827x554-1-300x201-1.jpeg
END:VEVENT
END:VCALENDAR