BEGIN:VCALENDAR
VERSION:2.0
PRODID:-//New College of Florida - ECPv6.15.20//NONSGML v1.0//EN
CALSCALE:GREGORIAN
METHOD:PUBLISH
X-WR-CALNAME:New College of Florida
X-ORIGINAL-URL:https://www.ncf.edu
X-WR-CALDESC:Events for New College of Florida
REFRESH-INTERVAL;VALUE=DURATION:PT1H
X-Robots-Tag:noindex
X-PUBLISHED-TTL:PT1H
BEGIN:VTIMEZONE
TZID:America/New_York
BEGIN:DAYLIGHT
TZOFFSETFROM:-0500
TZOFFSETTO:-0400
TZNAME:EDT
DTSTART:20220313T070000
END:DAYLIGHT
BEGIN:STANDARD
TZOFFSETFROM:-0400
TZOFFSETTO:-0500
TZNAME:EST
DTSTART:20221106T060000
END:STANDARD
BEGIN:DAYLIGHT
TZOFFSETFROM:-0500
TZOFFSETTO:-0400
TZNAME:EDT
DTSTART:20230312T070000
END:DAYLIGHT
BEGIN:STANDARD
TZOFFSETFROM:-0400
TZOFFSETTO:-0500
TZNAME:EST
DTSTART:20231105T060000
END:STANDARD
BEGIN:DAYLIGHT
TZOFFSETFROM:-0500
TZOFFSETTO:-0400
TZNAME:EDT
DTSTART:20240310T070000
END:DAYLIGHT
BEGIN:STANDARD
TZOFFSETFROM:-0400
TZOFFSETTO:-0500
TZNAME:EST
DTSTART:20241103T060000
END:STANDARD
END:VTIMEZONE
BEGIN:VEVENT
DTSTART;TZID=America/New_York:20230524T100000
DTEND;TZID=America/New_York:20230524T110000
DTSTAMP:20260420T130122
CREATED:20230510T174115Z
LAST-MODIFIED:20240401T203244Z
UID:17552-1684922400-1684926000@www.ncf.edu
SUMMARY:Finance and Administration Committee Meeting
DESCRIPTION:New College of Florida announces a public meeting to which all persons are invited. \nIn accordance with the Sunshine Law\, the public is invited to listen and observe the following meeting. \nWhen: Wednesday\, May 24 10-11 a.m. \nWhere: https://ncf.zoom.us/j/92623094504?pwd=aUpZSStLL3hSRFl0SkU5Mmt4dWRndz09 \nPasscode: 935470
URL:https://www.ncf.edu/event/finance-and-administration-committee-meeting/
CATEGORIES:Public Notices
END:VEVENT
END:VCALENDAR