BEGIN:VCALENDAR
VERSION:2.0
PRODID:-//New College of Florida - ECPv6.15.20//NONSGML v1.0//EN
CALSCALE:GREGORIAN
METHOD:PUBLISH
X-WR-CALNAME:New College of Florida
X-ORIGINAL-URL:https://www.ncf.edu
X-WR-CALDESC:Events for New College of Florida
REFRESH-INTERVAL;VALUE=DURATION:PT1H
X-Robots-Tag:noindex
X-PUBLISHED-TTL:PT1H
BEGIN:VTIMEZONE
TZID:America/New_York
BEGIN:DAYLIGHT
TZOFFSETFROM:-0500
TZOFFSETTO:-0400
TZNAME:EDT
DTSTART:20220313T070000
END:DAYLIGHT
BEGIN:STANDARD
TZOFFSETFROM:-0400
TZOFFSETTO:-0500
TZNAME:EST
DTSTART:20221106T060000
END:STANDARD
BEGIN:DAYLIGHT
TZOFFSETFROM:-0500
TZOFFSETTO:-0400
TZNAME:EDT
DTSTART:20230312T070000
END:DAYLIGHT
BEGIN:STANDARD
TZOFFSETFROM:-0400
TZOFFSETTO:-0500
TZNAME:EST
DTSTART:20231105T060000
END:STANDARD
BEGIN:DAYLIGHT
TZOFFSETFROM:-0500
TZOFFSETTO:-0400
TZNAME:EDT
DTSTART:20240310T070000
END:DAYLIGHT
BEGIN:STANDARD
TZOFFSETFROM:-0400
TZOFFSETTO:-0500
TZNAME:EST
DTSTART:20241103T060000
END:STANDARD
END:VTIMEZONE
BEGIN:VEVENT
DTSTART;TZID=America/New_York:20231027T083000
DTEND;TZID=America/New_York:20231027T213000
DTSTAMP:20260421T082438
CREATED:20231025T231004Z
LAST-MODIFIED:20240401T203500Z
UID:19802-1698395400-1698442200@www.ncf.edu
SUMMARY:Dean of the Library Search Committee Meeting
DESCRIPTION:Public Notice: Dean of the Library Search Committee Meeting Review of Candidates Friday\, October 27th 8:30 a.m. – 9:30 a.m. LBR 228
URL:https://www.ncf.edu/event/dean-of-the-library-search-committee-meeting-2/
LOCATION:LBR 228
CATEGORIES:Public Notices
END:VEVENT
END:VCALENDAR